BEGIN:VCALENDAR
VERSION:2.0
PRODID:-//Photonics Finland - ECPv6.15.19//NONSGML v1.0//EN
CALSCALE:GREGORIAN
METHOD:PUBLISH
X-WR-CALNAME:Photonics Finland
X-ORIGINAL-URL:https://www.photonics.fi
X-WR-CALDESC:Events for Photonics Finland
REFRESH-INTERVAL;VALUE=DURATION:PT1H
X-Robots-Tag:noindex
X-PUBLISHED-TTL:PT1H
BEGIN:VTIMEZONE
TZID:Europe/Helsinki
BEGIN:DAYLIGHT
TZOFFSETFROM:+0200
TZOFFSETTO:+0300
TZNAME:EEST
DTSTART:20240331T010000
END:DAYLIGHT
BEGIN:STANDARD
TZOFFSETFROM:+0300
TZOFFSETTO:+0200
TZNAME:EET
DTSTART:20241027T010000
END:STANDARD
BEGIN:DAYLIGHT
TZOFFSETFROM:+0200
TZOFFSETTO:+0300
TZNAME:EEST
DTSTART:20250330T010000
END:DAYLIGHT
BEGIN:STANDARD
TZOFFSETFROM:+0300
TZOFFSETTO:+0200
TZNAME:EET
DTSTART:20251026T010000
END:STANDARD
BEGIN:DAYLIGHT
TZOFFSETFROM:+0200
TZOFFSETTO:+0300
TZNAME:EEST
DTSTART:20260329T010000
END:DAYLIGHT
BEGIN:STANDARD
TZOFFSETFROM:+0300
TZOFFSETTO:+0200
TZNAME:EET
DTSTART:20261025T010000
END:STANDARD
END:VTIMEZONE
BEGIN:VEVENT
DTSTART;TZID=Europe/Helsinki:20251128T153000
DTEND;TZID=Europe/Helsinki:20251128T170000
DTSTAMP:20260426T042722
CREATED:20251120T113342Z
LAST-MODIFIED:20251126T124504Z
UID:14629-1764343800-1764349200@www.photonics.fi
SUMMARY:Photonics Finland Annual Autumn Meeting 2025
DESCRIPTION:Agenda – Photonics Finland Annual Autumn Meeting 2025 \n\n\n\nPlace: Online – Teams \n\n\n\n1. Election of the chairman\, secretary\, two protocol inspectors\, and two vote counters for the meeting; \n\n\n\n2. Verification of the legality and quorum of the meeting; \n\n\n\n3. Approval of the board’s proposal for the next year’s action plan and budget; \n\n\n\n4. Decision on the amounts of membership fees; \n\n\n\n5. Election of representatives and candidates of the association to the governing bodies of those organizations in which the Association is a member;6. Decision on proposed amendments to the Association’s rules7. Discussion of other matters mentioned in the meeting invitation. \n\n\n\nPhotonics Finland Board\, November 20\, 2025. \n\n\n\nThe 2025 Action plan and Budget.Any changes\, observations\, or comments can be sent via email to the association’s Executive Director\, Juha Purmonen\, at juha.purmonen@photonics.fi. \n\n\n\nPhotonics Finland sääntömääräinen syyskokous 2025\n\n\n\n\nKokouksen puheenjohtajan\, sihteerin\, kahden pöytäkirjantarkastajan ja kahden ääntenlaskijan valinta\n\n\n\nKokouksen laillisuuden ja päätösvaltaisuuden toteaminen\n\n\n\nHallituksen ehdotuksen hyväksyminen seuraavan vuoden toimintasuunnitelmaksi ja talousarvioksi\n\n\n\nPäätös jäsenmaksujen suuruudesta\n\n\n\nYhdistyksen edustajien ja ehdokkaiden valinta niiden yhteisöjen hallintoelimiin\, joissa yhdistys on jäsenenä\n\n\n\nPäätös yhdistyksen sääntöjen muutoksesta\n\n\n\nKokouskutsussa mainittujen muiden asioiden käsittely\n\n\n\n\n \n\n\n\nToimintasuunnitelma ja talousarvio vuodelle 2025.Mahdolliset muutokset\, huomiot tai kommentit voi lähettää sähköpostitse yhdistyksen toiminnanjohtajalle Juha Purmoselle osoitteeseen juha.purmonen@photonics.fi.
URL:https://www.photonics.fi/event/photonics-finland-annual-autumn-meeting-2025/
ATTACH;FMTTYPE=image/jpeg:https://www.photonics.fi/wp-content/uploads/2025/02/PW2025-TP-38.jpg
END:VEVENT
END:VCALENDAR