BEGIN:VCALENDAR
VERSION:2.0
PRODID:-//Photonics Finland - ECPv6.15.19//NONSGML v1.0//EN
CALSCALE:GREGORIAN
METHOD:PUBLISH
X-ORIGINAL-URL:https://www.photonics.fi
X-WR-CALDESC:Events for Photonics Finland
REFRESH-INTERVAL;VALUE=DURATION:PT1H
X-Robots-Tag:noindex
X-PUBLISHED-TTL:PT1H
BEGIN:VTIMEZONE
TZID:Europe/Helsinki
BEGIN:DAYLIGHT
TZOFFSETFROM:+0200
TZOFFSETTO:+0300
TZNAME:EEST
DTSTART:20250330T010000
END:DAYLIGHT
BEGIN:STANDARD
TZOFFSETFROM:+0300
TZOFFSETTO:+0200
TZNAME:EET
DTSTART:20251026T010000
END:STANDARD
BEGIN:DAYLIGHT
TZOFFSETFROM:+0200
TZOFFSETTO:+0300
TZNAME:EEST
DTSTART:20260329T010000
END:DAYLIGHT
BEGIN:STANDARD
TZOFFSETFROM:+0300
TZOFFSETTO:+0200
TZNAME:EET
DTSTART:20261025T010000
END:STANDARD
BEGIN:DAYLIGHT
TZOFFSETFROM:+0200
TZOFFSETTO:+0300
TZNAME:EEST
DTSTART:20270328T010000
END:DAYLIGHT
BEGIN:STANDARD
TZOFFSETFROM:+0300
TZOFFSETTO:+0200
TZNAME:EET
DTSTART:20271031T010000
END:STANDARD
END:VTIMEZONE
BEGIN:VEVENT
DTSTART;TZID=Europe/Helsinki:20260205T121500
DTEND;TZID=Europe/Helsinki:20260205T153000
DTSTAMP:20260425T211625
CREATED:20251114T130924Z
LAST-MODIFIED:20260129T090656Z
UID:14626-1770293700-1770305400@www.photonics.fi
SUMMARY:Valoa ruokasektorille - fotoniikasta ratkaisuja maatalouden ja ruokaturvallisuuden haasteisiin
DESCRIPTION:Voisiko valo ratkaista ruoka-alan haasteita? Miten älykkäät fotoniikkaratkaisut tehostavat sadon arviointia\, elintarvikkeiden laadunvalvontaa ja kontaminaatioiden havaitsemista ja auttavat vähentämään hävikkiä? \n\n\n\nPhotonics for X – Fotoniikkaa hyödynnetään yhä laajemmin eri toimialoilla \n\n\n\nRuoka-ala tarjoaa erityisen kiinnostavia sovelluskohteita tuotannon\, prosessoinnin ja ruokaturvallisuuden kehittämisessä. Miten valoon perustuvat ratkaisut voisivat tukea ruoka-alan prosesseja aina sadon arvioinnista laadunvarmistukseen ja elintarviketurvallisuuden parantamiseen? Kuule inspiroivia esimerkkejä ja tuo omat ideasi mukaan keskusteluun! Tilaisuus kokoaa yhteen tuottajat\, yritykset\, fotoniikan asiantuntijat ja ruokaketjun kehittäjät keskustelemaan konkreettisista fotoniikan tarjoamista ratkaisuista maatalouden ja ruokaturvallisuuden haasteisiin sekä uusista yhteistyö- ja liiketoimintamahdollisuuksista.  \n\n\n\nAika ja paikka: to 5.2.2026 klo 12:15-15.30. Savonia (Microkatu 1\, Kuopio). Tilaisuutta voi seurata myös etäyhteydellä klo 13:45 asti.  \n\n\n\nOhjelma (tarkentuu) \n\n\n\n\nTutustuminen fotoniikkaan ja sen mahdollisuuksiin ruoka-alalla\n\n\n\n\n\nEsimerkkejä ruoka-alan haasteista\, joita fotoniikalla voisi ratkaista:\n\nKemikaalien vähentäminen sipulin käsittelylinjaston puhdistamisessa\n\n\n\nTaudinaiheuttajien poistaminen marjojen vesiviljelystä ja härmän torjunta UVC-valolla\n\n\n\nViljojen DON-arvojen määrittämisen analyysimenetelmät – kuinka parantaa viljaerien laadun seurannan luotettavuutta?\n\n\n\nSiementen itävyys – kuinka tunnistaa ja erotella siemenviljasta ei-itävät siemenet pois?\n\n\n\nSaunakukan siemenen erottaminen kuminan siemenestä\n\n\n\nRikkakasvien tunnistaminen ja täsmätorjunta pellolla – droneavusteinen kasvinsuojeluaineiden täsmätarvemääritys\n\n\n\n\n\n\n\nFotoniikan sovellutuksia – fotoniikka-alan yritysten puheenvuorot\n\n\n\n\n\nKlo 14 alkaen yhteistä keskustelua ja työpajatyöskentelyä fotoniikan mahdollisuuksista ruoka-alalla\n\n\n\n\n\nLue lisää ja ilmoittaudu\n\n\n\n\nTilaisuuden järjestävät EU:n osarahoittama Pohjois-Savon Agri-Food klusteri yhteistyössä Itä-Suomen yliopiston Fotoniikan tutkimuskeskuksen kanssa. Lisätietoja tilaisuudesta: Kaisa Kähkönen\, Pohjois-Savon Agri-Food klusterin klusterikoordinaattori\, kaisa.kahkonen@savonia.fi\, p. 0447856158
URL:https://www.photonics.fi/event/ruokaturvallisuus-ja-fotoniikka/
ATTACH;FMTTYPE=image/png:https://www.photonics.fi/wp-content/uploads/2020/09/photonics_in_food_bigger.png
END:VEVENT
END:VCALENDAR