BEGIN:VCALENDAR
VERSION:2.0
PRODID:-//Photonics Finland - ECPv6.15.19//NONSGML v1.0//EN
CALSCALE:GREGORIAN
METHOD:PUBLISH
X-WR-CALNAME:Photonics Finland
X-ORIGINAL-URL:https://www.photonics.fi
X-WR-CALDESC:Events for Photonics Finland
REFRESH-INTERVAL;VALUE=DURATION:PT1H
X-Robots-Tag:noindex
X-PUBLISHED-TTL:PT1H
BEGIN:VTIMEZONE
TZID:Europe/Helsinki
BEGIN:DAYLIGHT
TZOFFSETFROM:+0200
TZOFFSETTO:+0300
TZNAME:EEST
DTSTART:20250330T010000
END:DAYLIGHT
BEGIN:STANDARD
TZOFFSETFROM:+0300
TZOFFSETTO:+0200
TZNAME:EET
DTSTART:20251026T010000
END:STANDARD
BEGIN:DAYLIGHT
TZOFFSETFROM:+0200
TZOFFSETTO:+0300
TZNAME:EEST
DTSTART:20260329T010000
END:DAYLIGHT
BEGIN:STANDARD
TZOFFSETFROM:+0300
TZOFFSETTO:+0200
TZNAME:EET
DTSTART:20261025T010000
END:STANDARD
BEGIN:DAYLIGHT
TZOFFSETFROM:+0200
TZOFFSETTO:+0300
TZNAME:EEST
DTSTART:20270328T010000
END:DAYLIGHT
BEGIN:STANDARD
TZOFFSETFROM:+0300
TZOFFSETTO:+0200
TZNAME:EET
DTSTART:20271031T010000
END:STANDARD
END:VTIMEZONE
BEGIN:VEVENT
DTSTART;TZID=Europe/Helsinki:20260303T083000
DTEND;TZID=Europe/Helsinki:20260303T150000
DTSTAMP:20260425T194602
CREATED:20260211T135927Z
LAST-MODIFIED:20260211T135928Z
UID:14847-1772526600-1772550000@www.photonics.fi
SUMMARY:Turku Tech Week 2026: Day 2 | Edistyneet teknologiat yritysten kasvun vauhdittajina
DESCRIPTION:Tervetuloa Turku Tech Weekin toiseen päivään! Päivään kuuluu kaksi tilaisuutta: Edistyneet teknologiat yritysten kasvun vauhdittajina sekä Valon voima (3D-teollinen tulostus\, laserhitsaus\, laserturvallisuus ja fotoniikka). \n\n\n\nTapahtumat ovat osa viisipäiväistä Turku Tech Weekiä.  Tapahtumapaikka: Vierailu- ja innovaatiokeskus Joki | Lemminkäisenkatu 12b\, 20520 Turku . \n\n\n\nEdistyneet teknologiat yritysten kasvun vauhdittajina\n\n\n\nTilaisuus kokoaa yhteen yritykset\, tutkijat ja asiantuntijat löytämään ratkaisuja\, miten siru- ja puolijohdeteknologiat\, kvanttilaskenta ja tekoälyn mahdollisuudet muovaavat tulevaisuuden liiketoimintaa. Asiantuntijapuheenvuorojen kautta havainnollistetaan\, miten uudet teknologiat siirtyvät tutkimuksesta käytäntöön ja avaavat konkreettisia mahdollisuuksia uusille tuotteille\, palveluille ja ekosysteemeille.  \n\n\n\nTämä tilaisuus on erityisesti sinulle\, joka työskentelet teknologian parissa ja tahdot lisätä ymmärrystäsi siru-\, kvantti- ja puolijohdeteknologioista\, tekoälyä unohtamatta. Kasvu syntyy rohkeudesta\, tervetuloa mukaan! \n\n\n\nOhjelma\n\n\n\n8.30 Ilmoittautuminen ja aamukahvi \n\n\n\n9.00–11.00 (aikataulu tarkentuu) \n\n\n\nTervetuloa – Reetta Vuorinen\, Business Turku  \n\n\n\nChips from the North -strategia – katsaus toimeenpanoon ja vuoteen 2026 Joonas Mikkilä\, Teknologiateollisuus  \n\n\n\nPuheenvuorossa tarkastellaan\, missä vaiheessa sirusektorin Chips from the North -kasvustrategian (2024) toteutus nyt on ja mitä vuosi 2026 merkitsee strategian seuraavana etappina. Joonas Mikkilä toimii Teknologiateollisuus ry:n johtavan asiantuntijana ja työskentelee teknologiapolitiikkaan liittyvien asioiden parissa. Hän myös sihteeröi järjestön puolijohdetoimialaryhmää. \n\n\n\nPuolijohdesektorin Suomi-tarina Toni Mattila\, Business Finland  \n\n\n\nTulevaisuuden kvanttiteknologiat – Mikä on mahdollista jo tänään? Tommi Tenkanen\, VTT \n\n\n\nTommi Tenkanen on teoreettinen fyysikko ja tietokirjailija\, joka toimii kansallisen kvanttiteknologia-instituutin (InstituteQ:n) innovaatio- ja ekosysteemipilarin johtajana. Aiemmin hän on työskennellyt tutkijana Isossa-Britanniassa ja Yhdysvalloissa\, sekä liikkeenjohdon konsulttina BCG:llä. Vuodesta 2024 lähtien hän on toiminut myös syväteknologiaan erikoistuneen Cygnus Quantum -konsulttiyrityksen toimitusjohtajana. \n\n\n\nLumi AI Factory Markus Koskela & Co\, CSC  \n\n\n\nAI-natiivit liiketoimintaprosessit – Case Mylly & ReworkTomi Virtanen\, Rework Intelligence \n\n\n\n11.00 Tilaisuus päättyy \n\n\n\nKiinnostuneilla on mahdollisuus tutustua LUMI AI Factory:n mahdollisuuksiin! \n\n\n\nValon voima!\n\n\n\nMillaisia kasvun mahdollisuuksia 3D-teollinen tulostus\, laserhitsaus\, laserturvallisuus ja fotoniikka tarjoavat yrityksille. Tule kuulemaan alan kovimpien asiantuntijoiden näkemyksiä aiheesta! \n\n\n\nOhjelma (tarkentuu)\n\n\n\n13.00 Tervetuloa \n\n\n\nFotoniikka kasvun mahdollistajanaJuha Purmonen\, Toiminnanjohtaja\, Photonics Finland \n\n\n\nPuheenvuoro tarjoaa yleiskuvan Suomen fotoniikasta kansallisena mahdollistavana avainteknologiana tekoälyn aikakaudella. Photonics Finlandin toiminnanjohtaja ja PREIN-lippulaivan Impact Manager Juha Purmonen avaa\, miten valoon perustuvat ratkaisut tukevat kasvua useilla toimialoilla – ruoantuotannosta ja elintarviketurvallisuudesta meriteollisuuteen ja siniseen talouteen. Esitys tuo esiin\, miten fotoniikka yhdistyy tekoälyyn sekä siru- ja kvanttiteknologioihin ja luo pohjaa uusille innovaatioille\, yhteistyölle ja liiketoimintamahdollisuuksille. \n\n\n\nLaserturvallisuusAntti Salminen \n\n\n\nMetallien Additive Manufacturing Suomessa – Historiaa ja tulevaisuuden näkymätOlli Nyrhilä\, Metallimateriaalien ja AM-sovellusten pioneeri \n\n\n\nLaserpuhdistusSami Smeds \n\n\n\nLaserhitsausTBD \n\n\n\n\nLue lisää ja ilmoittaudu tapahtumiin
URL:https://www.photonics.fi/event/turku-tech-week-2026-day-2-edistyneet-teknologiat-yritysten-kasvun-vauhdittajina/
ATTACH;FMTTYPE=image/jpeg:https://www.photonics.fi/wp-content/uploads/2026/02/Turku_Tech_Week_2026_FI_Day_2_1920x1080.jpg
END:VEVENT
END:VCALENDAR