BEGIN:VCALENDAR
VERSION:2.0
PRODID:-//Photonics Finland - ECPv6.15.19//NONSGML v1.0//EN
CALSCALE:GREGORIAN
METHOD:PUBLISH
X-ORIGINAL-URL:https://www.photonics.fi
X-WR-CALDESC:Events for Photonics Finland
REFRESH-INTERVAL;VALUE=DURATION:PT1H
X-Robots-Tag:noindex
X-PUBLISHED-TTL:PT1H
BEGIN:VTIMEZONE
TZID:Europe/Helsinki
BEGIN:DAYLIGHT
TZOFFSETFROM:+0200
TZOFFSETTO:+0300
TZNAME:EEST
DTSTART:20250330T010000
END:DAYLIGHT
BEGIN:STANDARD
TZOFFSETFROM:+0300
TZOFFSETTO:+0200
TZNAME:EET
DTSTART:20251026T010000
END:STANDARD
BEGIN:DAYLIGHT
TZOFFSETFROM:+0200
TZOFFSETTO:+0300
TZNAME:EEST
DTSTART:20260329T010000
END:DAYLIGHT
BEGIN:STANDARD
TZOFFSETFROM:+0300
TZOFFSETTO:+0200
TZNAME:EET
DTSTART:20261025T010000
END:STANDARD
BEGIN:DAYLIGHT
TZOFFSETFROM:+0200
TZOFFSETTO:+0300
TZNAME:EEST
DTSTART:20270328T010000
END:DAYLIGHT
BEGIN:STANDARD
TZOFFSETFROM:+0300
TZOFFSETTO:+0200
TZNAME:EET
DTSTART:20271031T010000
END:STANDARD
END:VTIMEZONE
BEGIN:VEVENT
DTSTART;TZID=Europe/Helsinki:20260310T093000
DTEND;TZID=Europe/Helsinki:20260310T160000
DTSTAMP:20260425T194612
CREATED:20260217T134249Z
LAST-MODIFIED:20260217T134249Z
UID:14858-1773135000-1773158400@www.photonics.fi
SUMMARY:Building Our Future Semiconductor Talents Workshop
DESCRIPTION:Join us in shaping Finland’s semiconductor talent strategy by sharing your insights and highlighting your industry needs. Jointly organised by FICCC\, International House Tampere\, WorkinFinland and Business Tampere\, this workshop offers your company a valuable opportunity to influence the development of Finland’s future semiconductor talent pipeline. Your insights will guide the planning of more effective services\, programmes and activities for the industry.Register by 27 February and help shape the future of Finland’s semiconductor talents! \n\n\n\n\nRegister\n\n\n\n\nProgramme infoVenue: Finlayson Kohtaamisia-tila\, Satakunnankatu 18a\, Tampere \n\n\n\nAgenda:09:30 – 10:00: Registration and breakfast (sponsored)10:00 – 10:10: Welcome and Introduction from the City of Tampere. Speaker: Petri Räsänen\, Senior Director\, Business Tampere10:10 – 10:25: Welcome and Introduction from FICCC. Speaker: Pasi Pylväs – Director of FICCC10:25 – 10:35: National Activities and Goals to Support Companies. Speaker: Hanna Riski\, Senior Advisor\, WorkinFinland unit – Business Finland10:35 – 10:50: Update on the Talent Gap in the EU Semiconductor Ecosystem: Speaker: Victoria Cummings\, Senior Manager\, Workforce Development & EU Projects – SEMI10:50 – 11:05: Summary of Research Results on Talent Needs – Finland. Speaker: Sirpa Salmi\, Skills & Talent – FICCC11:05 – 11:10: Menti feedback based on research result11:10 – 11:15: Information about Breakout Group Discussions.  Host: Joonas Inha/Karen Ahtiainen 11:15 – 12:30: Lunch (sponsored) 12:30 – 12:35: Move into breakout rooms (Please ask Joonas/Karen for guidance if needed)12:35 – 13:35: Sector-Based Group Discussions in Breakout Rooms (Each group will have a designated facilitator\, and discussion questions will be shared in advance to allow for preparation)13:35 – 13:50: Coffee break (sponsored)13:50 – 14:50: Summary of discussion from each group14:50 – 15:05: From Insight to Action: Building Semiconductor Talent from a Company Perspective. Speaker: Hanna Osara\, Vice President\, People and Culture – Beneq15:05 – 15:15: Closing: Next Steps and Thank You. Speaker: Nuppu Suvanto\, Service Manager – International House Tampere15:15 – 16:00: Networking
URL:https://www.photonics.fi/event/building-our-future-semiconductor-talents-workshop/
ATTACH;FMTTYPE=image/png:https://www.photonics.fi/wp-content/uploads/2026/02/·Building-Our-Future-Semiconductor-Talents-workshop.png
END:VEVENT
END:VCALENDAR