BEGIN:VCALENDAR
VERSION:2.0
PRODID:-//Photonics Finland - ECPv6.15.19//NONSGML v1.0//EN
CALSCALE:GREGORIAN
METHOD:PUBLISH
X-WR-CALNAME:Photonics Finland
X-ORIGINAL-URL:https://www.photonics.fi
X-WR-CALDESC:Events for Photonics Finland
REFRESH-INTERVAL;VALUE=DURATION:PT1H
X-Robots-Tag:noindex
X-PUBLISHED-TTL:PT1H
BEGIN:VTIMEZONE
TZID:Europe/Helsinki
BEGIN:DAYLIGHT
TZOFFSETFROM:+0200
TZOFFSETTO:+0300
TZNAME:EEST
DTSTART:20250330T010000
END:DAYLIGHT
BEGIN:STANDARD
TZOFFSETFROM:+0300
TZOFFSETTO:+0200
TZNAME:EET
DTSTART:20251026T010000
END:STANDARD
BEGIN:DAYLIGHT
TZOFFSETFROM:+0200
TZOFFSETTO:+0300
TZNAME:EEST
DTSTART:20260329T010000
END:DAYLIGHT
BEGIN:STANDARD
TZOFFSETFROM:+0300
TZOFFSETTO:+0200
TZNAME:EET
DTSTART:20261025T010000
END:STANDARD
BEGIN:DAYLIGHT
TZOFFSETFROM:+0200
TZOFFSETTO:+0300
TZNAME:EEST
DTSTART:20270328T010000
END:DAYLIGHT
BEGIN:STANDARD
TZOFFSETFROM:+0300
TZOFFSETTO:+0200
TZNAME:EET
DTSTART:20271031T010000
END:STANDARD
END:VTIMEZONE
BEGIN:VEVENT
DTSTART;TZID=Europe/Helsinki:20260424T090000
DTEND;TZID=Europe/Helsinki:20260424T130000
DTSTAMP:20260425T161943
CREATED:20260323T123725Z
LAST-MODIFIED:20260323T123726Z
UID:14949-1777021200-1777035600@www.photonics.fi
SUMMARY:360 CARLA Experience Vantaa
DESCRIPTION:Join us on April 24 for a 360 CARLA Experience in the vertical of Energy\, Environment\, and Sustainability in collaboration with VAISALA. \n\n\n\nWhen: 24th April 2026 | 09:00– 13:00 \n\n\n\nWhere: VAISALA Vanha Nurmijärventie 21\, 01670 Vantaa (Finland) \n\n\n\nRegistration: via this link by April 10th. You will receive further information about the status of your application after registration. \n\n\n\nDuring this visit\, participants will take part in a tour de table to introduce themselves\, followed by an engaging introduction to VAISALA\, its key products and technologies\, and the various professional roles within the company. The experience also includes a guided visit to VAISALA’s sensor factory\, providing first-hand insight into the sensing world. The afternoon will conclude with a networking lunch\, offering an opportunity for informal discussion and connection with VAISALA’s experts and key professionals in Photonics.
URL:https://www.photonics.fi/event/360-carla-experience-vantaa/
END:VEVENT
END:VCALENDAR