BEGIN:VCALENDAR
VERSION:2.0
PRODID:-//Photonics Finland - ECPv6.15.19//NONSGML v1.0//EN
CALSCALE:GREGORIAN
METHOD:PUBLISH
X-ORIGINAL-URL:https://www.photonics.fi
X-WR-CALDESC:Events for Photonics Finland
REFRESH-INTERVAL;VALUE=DURATION:PT1H
X-Robots-Tag:noindex
X-PUBLISHED-TTL:PT1H
BEGIN:VTIMEZONE
TZID:Europe/Helsinki
BEGIN:DAYLIGHT
TZOFFSETFROM:+0200
TZOFFSETTO:+0300
TZNAME:EEST
DTSTART:20250330T010000
END:DAYLIGHT
BEGIN:STANDARD
TZOFFSETFROM:+0300
TZOFFSETTO:+0200
TZNAME:EET
DTSTART:20251026T010000
END:STANDARD
BEGIN:DAYLIGHT
TZOFFSETFROM:+0200
TZOFFSETTO:+0300
TZNAME:EEST
DTSTART:20260329T010000
END:DAYLIGHT
BEGIN:STANDARD
TZOFFSETFROM:+0300
TZOFFSETTO:+0200
TZNAME:EET
DTSTART:20261025T010000
END:STANDARD
BEGIN:DAYLIGHT
TZOFFSETFROM:+0200
TZOFFSETTO:+0300
TZNAME:EEST
DTSTART:20270328T010000
END:DAYLIGHT
BEGIN:STANDARD
TZOFFSETFROM:+0300
TZOFFSETTO:+0200
TZNAME:EET
DTSTART:20271031T010000
END:STANDARD
END:VTIMEZONE
BEGIN:VEVENT
DTSTART;TZID=Europe/Helsinki:20260609T080000
DTEND;TZID=Europe/Helsinki:20260610T170000
DTSTAMP:20260425T162045
CREATED:20260402T102618Z
LAST-MODIFIED:20260402T102619Z
UID:14976-1780992000-1781110800@www.photonics.fi
SUMMARY:Photonics Partnership Annual Meeting 2026
DESCRIPTION:Photonics Partnership Annual Meeting 2026 will take place at the Double Tree by Hilton Brussels City Hotel in Brussels\, Belgium. \n\n\n\nBenefit of the early bird rate & register now to the next Photonics Partnership Annual Meeting 2026! The event will focus on photonics in the next EU Framework Programme and will present the new Photonics Strategic Research and Innovation Agenda to the European Commission. \n\n\n\nYou can view the draft event programme.
URL:https://www.photonics.fi/event/photonics-partnership-annual-meeting-2026/
ATTACH;FMTTYPE=image/webp:https://www.photonics.fi/wp-content/uploads/2026/04/Landingpagebanner1200x500_blue-1920w.jpg.webp
END:VEVENT
END:VCALENDAR