BEGIN:VCALENDAR
VERSION:2.0
PRODID:-//Photonics Finland - ECPv6.15.19//NONSGML v1.0//EN
CALSCALE:GREGORIAN
METHOD:PUBLISH
X-WR-CALNAME:Photonics Finland
X-ORIGINAL-URL:https://www.photonics.fi
X-WR-CALDESC:Events for Photonics Finland
REFRESH-INTERVAL;VALUE=DURATION:PT1H
X-Robots-Tag:noindex
X-PUBLISHED-TTL:PT1H
BEGIN:VTIMEZONE
TZID:Europe/Helsinki
BEGIN:DAYLIGHT
TZOFFSETFROM:+0200
TZOFFSETTO:+0300
TZNAME:EEST
DTSTART:20250330T010000
END:DAYLIGHT
BEGIN:STANDARD
TZOFFSETFROM:+0300
TZOFFSETTO:+0200
TZNAME:EET
DTSTART:20251026T010000
END:STANDARD
BEGIN:DAYLIGHT
TZOFFSETFROM:+0200
TZOFFSETTO:+0300
TZNAME:EEST
DTSTART:20260329T010000
END:DAYLIGHT
BEGIN:STANDARD
TZOFFSETFROM:+0300
TZOFFSETTO:+0200
TZNAME:EET
DTSTART:20261025T010000
END:STANDARD
BEGIN:DAYLIGHT
TZOFFSETFROM:+0200
TZOFFSETTO:+0300
TZNAME:EEST
DTSTART:20270328T010000
END:DAYLIGHT
BEGIN:STANDARD
TZOFFSETFROM:+0300
TZOFFSETTO:+0200
TZNAME:EET
DTSTART:20271031T010000
END:STANDARD
END:VTIMEZONE
BEGIN:VEVENT
DTSTART;TZID=Europe/Helsinki:20260614T080000
DTEND;TZID=Europe/Helsinki:20260617T170000
DTSTAMP:20260425T144739
CREATED:20260123T123726Z
LAST-MODIFIED:20260123T123727Z
UID:14795-1781424000-1781715600@www.photonics.fi
SUMMARY:The 30th International Semiconductor Laser Conference 2026
DESCRIPTION:We welcome you to Tampere\, Finland to join us at the 30th International Semiconductor Laser Conference (ISLC 2026)! \n\n\n\nThe ISLC has a tradition of more than 50 years of bringing together specialists in the field of semiconductor lasers\, amplifiers and LEDs. The conference is run in a single session format\, providing an opportunity to all participants for fruitful discussions and networking. In addition\, June is a great time to experience Tampere and the beautiful peace and quiet of the nature around it. \n\n\n\nThe abstract submission deadline has been extended to 05.02.2026. \n\n\n\n\nRead more
URL:https://www.photonics.fi/event/the-30th-international-semiconductor-laser-conference-2026/
ATTACH;FMTTYPE=image/jpeg:https://www.photonics.fi/wp-content/uploads/2026/01/visit_tampere_drone_view_finlayson_tampella_nasinneula_dji_0262_skyfox_marko_kallio-scaled-1.jpg
END:VEVENT
BEGIN:VEVENT
DTSTART;TZID=Europe/Helsinki:20260819T080000
DTEND;TZID=Europe/Helsinki:20260820T170000
DTSTAMP:20260425T144739
CREATED:20260227T082002Z
LAST-MODIFIED:20260420T120307Z
UID:14889-1787126400-1787245200@www.photonics.fi
SUMMARY:Photonics4Health workshop\, side event of Health Insights\, Kuopio
DESCRIPTION:Photonics4Health Workshop \n\n\n\nPhotonics Finland is organising a Photonics4Health workshop as a side event in Health Insights 2026 event\, hosted by the Kuopio Health cluster. The workshop will take place on the morning of 19 August 2026. \n\n\n\nThe workshop will highlight the role of photonics in health and medical applications\, bringing together experts and stakeholders to explore emerging opportunities and innovations in the field.More detailed programme information will be announced closer to the event. \n\n\n\nParticipation in the Photonics4Health workshop is free of charge.Please note that registration to the Health Insights 2026 event is required separately and is subject to the event’s participation fees. \n\n\n\nBy attending the Photonics4Health workshop\, you will: \n\n\n\n\nExpand your network and connect with experts in photonics and health technologies\n\n\n\nDiscover new collaboration and business opportunities in the Photonics4Health domain\n\n\n\nEngage in insightful discussions with professionals from research\, industry\, and innovation ecosystems\n\n\n\nGain a closer look at how photonics is contributing to the growth of data-driven health ecosystem as an emerging international hub\n\n\n\n\nTo register for the event\, sign up here: Registration form \n\n\n\nTentative Agenda\n\n\n\n\n09:00 – 09:05 Welcome Remarks\n\n\n\n09:05 – 09:20 Business Finland Talk\n\n\n\n09:20 – 09:40 VTT\n\n\n\n09:40 – 10:00 End-User Presentation\, TBC\n\n\n\n10:00 – 10:20 SeeTrue Technologies\n\n\n\n10:20 – 10:50 Coffee & Networking Break\n\n\n\n10:50 – 11:10 End-User Presentation\, TBC\n\n\n\n11:10 – 11:30 Talk by Marginum on Aspirate tissue monitoring – a groundbreaking new surgical technique for oncological surgery\n\n\n\n11:30 – 11:50 End-User Presentation\, TBC\n\n\n\n11:50 – 12:00 Farewell Remarks\n\n\n\n\n\n\n\n\nAbout Health Insights 2026 \n\n\n\nHealth Insights 2026 will take place on 19–20 August 2026 in Kuopio\, bringing together professionals\, companies\, startups\, researchers\, investors\, and public sector leaders shaping the future of health. \n\n\n\nThe event offers two inspiring days at the Kuopio Music Centre\, featuring high-level discussions\, networking\, and collaboration opportunities across the health ecosystem. Known for its dynamic atmosphere\, Health Insights also provides valuable opportunities for informal exchanges and meaningful connections. \n\n\n\n 19.–20.8.2026 Kuopion Musiikkikeskus | Kuopio Music Centre\, Finland
URL:https://www.photonics.fi/event/photonics4health-workshop-part-of-health-insights-kuopio/
LOCATION:Kuopio Music Centre\, Kuopionlahdenkatu 23\, Kuopio
END:VEVENT
BEGIN:VEVENT
DTSTART;TZID=Europe/Helsinki:20260824T080000
DTEND;TZID=Europe/Helsinki:20260828T170000
DTSTAMP:20260425T144739
CREATED:20251024T110952Z
LAST-MODIFIED:20251024T110953Z
UID:14578-1787558400-1787936400@www.photonics.fi
SUMMARY:EOSAM 2026
DESCRIPTION:The European Optical Society Annual Meeting\, EOSAM\, is a major international scientific conference and exhibition covering all aspects of optics and photonics. \n\n\n\nThe 14th EOSAM is organized in Tampere\, Finland\, 24-28 August 2026.\n\n\n\nEOSAM 2026 is organized by The European Optical Society\, EOS\, in close collaboration with Photonics Finland (EOS National Society Member)\, Tampere University\, and PREIN Flagship. \n\n\n\nEOSAM serves as a premier platform for presenting cutting-edge research\, showcasing the latest technological advancements and applications\, fostering meaningful connections\, and bridging the gap between research\, education\, and industry. Submissions will be welcomed for both oral and poster presentations. The event also features an industrial exhibition alongside a robust scientific and industrial program\, offering valuable opportunities for collaboration between academia and industry.  \n\n\n\nAt EOSAM\, you can look forward to a dynamic and engaging week that includes: \n\n\n\n\nA Comprehensive Scientific and Industrial Program featuring the latest research and technological developments in optics and photonics.\n\n\n\nTutorials offering in-depth sessions on specialized topics\, held just before the main conference begins.\n\n\n\nPlenary and Invited Talks delivering insights from leading experts and pioneers in the field.\n\n\n\nA Global Audience\, with participants representing over 30 countries\, fostering diverse perspectives and international collaboration.\n\n\n\nNetworking Opportunities through dedicated events designed to encourage collaboration and meaningful knowledge exchange.\n\n\n\nAn Industrial Exhibition showcasing the latest innovations and creating valuable connections between academia and industry.\n\n\n\nAn Early-Career Researcher Program supporting the next generation of scientists with tailored sessions\, mentoring opportunities\, and professional development resources.\n\n\n\n\nEach year\, EOSAM is hosted in a different leading hub of optics and photonics\, allowing it to better engage with local communities and deliver a unique experience to attendees. Since its inception in 2006\, EOSAM has been held in France\, Scotland\, Germany\, the Netherlands\, Italy\, and Portugal. Have a look at the 2025 EOSAM in Delft\, or any of the previous EOSAM events\, in preparation for joining us in 2026. \n\n\n\nEOS is very excited to partner with Finland for the 2026 EOSAM event. See you in Tampere 24-28 August 2026!
URL:https://www.photonics.fi/event/eosam-2026/
ATTACH;FMTTYPE=image/jpeg:https://www.photonics.fi/wp-content/uploads/2025/10/laura-vanzo.jpg
END:VEVENT
BEGIN:VEVENT
DTSTART;TZID=Europe/Helsinki:20261008T090000
DTEND;TZID=Europe/Helsinki:20261009T180000
DTSTAMP:20260425T144739
CREATED:20260227T080846Z
LAST-MODIFIED:20260227T080932Z
UID:14881-1791450000-1791568800@www.photonics.fi
SUMMARY:PhotonQBoost Matching Mission in Stuttgart\, Germany: Focus on Mobility
DESCRIPTION:Explore the Future of Mobility in Baden-Württemberg – Where Photonics and Quantum Technologies Drive Innovation \n\n\n\nJoin us in Stuttgart\, the heart of Baden-Württemberg\, a region globally recognized for its leadership in mobility and automotive excellence. Home to industry giants like Porsche\, Mercedes Benz\, TRUMPF\, ZEISS and Bosch\, as well as pioneering SMEs\, Baden-Württemberg combines a strong tradition in engineering with cutting-edge research both in Photonics and Quantum Technologies as well as inMobility. \n\n\n\nThis unique ecosystem fosters breakthroughs in sensing\, imaging\, laser technology\, connectivity\, and quantum-based solutions that are transforming the way we move. From autonomous driving to smart infrastructure\, the synergy between mobility and advanced technologies creates unparalleled opportunities for collaboration and growth. \n\n\n\nEuropean SMEs in photonics\, quantum\, and mobility sectors are invited to connect with leading innovators\, research institutions\, and potential partners in one of Europe’s most dynamic hubs for high-tech development. Discover why Baden-Württemberg is the place where science meets industry – and where the future of mobility begins. \n\n\n\nThis matching mission is scheduled to allow for your visit to two international trade fairs prior the event: \n\n\n\n\nVISION\, the most important international meeting point on machine vision a where you may experience the latest products\, technologies and trend themes such as embedded vision\, hyperspectral imaging and deep learning!\n\n\n\nQuantum Effects where you find everything on application-oriented quantum technologies\n\n\n\n\nWe look forward to meeting you in Stuttgart!
URL:https://www.photonics.fi/event/photonqboost-matching-mission-in-stuttgart-germany-focus-on-mobility/
END:VEVENT
END:VCALENDAR