BEGIN:VCALENDAR
VERSION:2.0
PRODID:-//Photonics Finland - ECPv6.15.19//NONSGML v1.0//EN
CALSCALE:GREGORIAN
METHOD:PUBLISH
X-ORIGINAL-URL:https://www.photonics.fi
X-WR-CALDESC:Events for Photonics Finland
REFRESH-INTERVAL;VALUE=DURATION:PT1H
X-Robots-Tag:noindex
X-PUBLISHED-TTL:PT1H
BEGIN:VTIMEZONE
TZID:Europe/Helsinki
BEGIN:DAYLIGHT
TZOFFSETFROM:+0200
TZOFFSETTO:+0300
TZNAME:EEST
DTSTART:20240331T010000
END:DAYLIGHT
BEGIN:STANDARD
TZOFFSETFROM:+0300
TZOFFSETTO:+0200
TZNAME:EET
DTSTART:20241027T010000
END:STANDARD
BEGIN:DAYLIGHT
TZOFFSETFROM:+0200
TZOFFSETTO:+0300
TZNAME:EEST
DTSTART:20250330T010000
END:DAYLIGHT
BEGIN:STANDARD
TZOFFSETFROM:+0300
TZOFFSETTO:+0200
TZNAME:EET
DTSTART:20251026T010000
END:STANDARD
BEGIN:DAYLIGHT
TZOFFSETFROM:+0200
TZOFFSETTO:+0300
TZNAME:EEST
DTSTART:20260329T010000
END:DAYLIGHT
BEGIN:STANDARD
TZOFFSETFROM:+0300
TZOFFSETTO:+0200
TZNAME:EET
DTSTART:20261025T010000
END:STANDARD
END:VTIMEZONE
BEGIN:VEVENT
DTSTART;TZID=Europe/Helsinki:20251209T140000
DTEND;TZID=Europe/Helsinki:20251209T141500
DTSTAMP:20260425T224213
CREATED:20251128T125217Z
LAST-MODIFIED:20251128T125257Z
UID:14658-1765288800-1765289700@www.photonics.fi
SUMMARY:What's up Photonics Finland - Online coffee break
DESCRIPTION:Welcome to the last What’s Up Photonics Finland Online Session of 2025:Tuesday 9th December 2025\, 2PM (EEST)\, Microsoft Teams \n\n\n\nDedicated to all Photonics Finland members. This is like a coffee break\, very unformal\, no long presentations\, and just 15 min – that’s it. Topics are about opportunities for our members\, projects\, funding\, upcoming events\, etc. \n\n\n\nAlso\, we are happy to hear and share any info from our members. If there is some\, let us know by contacting our Events and Memberships Manager tuukka.pakarinen(a)photonics.fi.  \n\n\n\n \n\n\n\n\nLink to the monthly What’s Up Photonics Finland – Online Coffee Break\n\n\n\n\n \n\n\n\nWith Best RegardsPhotonics Finland Team 
URL:https://www.photonics.fi/event/whats-up-photonics-finland-online-coffee-break-2/
ATTACH;FMTTYPE=image/jpeg:https://www.photonics.fi/wp-content/uploads/2025/08/WhatsUp-Marketing.jpeg
END:VEVENT
END:VCALENDAR